Package: idpr Version: 1.16.0 Command: /home/biocbuild/bbs-3.20-bioc/R/bin/R CMD build --keep-empty-dirs --no-resave-data --md5 idpr StartedAt: 2025-02-03 17:51:33 -0500 (Mon, 03 Feb 2025) EndedAt: 2025-02-03 17:52:30 -0500 (Mon, 03 Feb 2025) EllapsedTime: 57.1 seconds RetCode: 0 Status: OK PackageFile: idpr_1.16.0.tar.gz PackageFileSize: 3.278 MiB