Package: idpr Version: 1.16.0 Command: /home/biocbuild/R/R/bin/R CMD build --keep-empty-dirs --no-resave-data idpr StartedAt: 2025-02-11 00:12:32 -0000 (Tue, 11 Feb 2025) EndedAt: 2025-02-11 00:13:57 -0000 (Tue, 11 Feb 2025) EllapsedTime: 85.0 seconds RetCode: 0 Status: OK PackageFile: idpr_1.16.0.tar.gz PackageFileSize: 1.636 MiB