Package: idpr Version: 1.16.0 Command: /home/biocbuild/R/R/bin/R CMD check --install=check:idpr.install-out.txt --library=/home/biocbuild/R/R/site-library --no-vignettes --timings idpr_1.16.0.tar.gz StartedAt: 2025-02-04 07:59:32 -0000 (Tue, 04 Feb 2025) EndedAt: 2025-02-04 08:00:24 -0000 (Tue, 04 Feb 2025) EllapsedTime: 51.1 seconds RetCode: 0 Status: OK CheckDir: idpr.Rcheck Warnings: 0