Package: idr2d
Version: 1.20.0
Command: /home/biocbuild/R/R/bin/R CMD check --install=check:idr2d.install-out.txt --library=/home/biocbuild/R/R/site-library --no-vignettes --timings idr2d_1.20.0.tar.gz
StartedAt: 2024-11-20 08:56:42 -0000 (Wed, 20 Nov 2024)
EndedAt: 2024-11-20 09:01:01 -0000 (Wed, 20 Nov 2024)
EllapsedTime: 259.5 seconds
RetCode: 0
Status: OK
CheckDir: idr2d.Rcheck
Warnings: 0