Package: idr2d
Version: 1.20.0
Command: /Library/Frameworks/R.framework/Resources/bin/R CMD build --keep-empty-dirs --no-resave-data idr2d
StartedAt: 2024-11-19 17:15:08 -0500 (Tue, 19 Nov 2024)
EndedAt: 2024-11-19 17:16:04 -0500 (Tue, 19 Nov 2024)
EllapsedTime: 55.9 seconds
RetCode: 0
Status: OK
PackageFile: idr2d_1.20.0.tar.gz
PackageFileSize: 1.643 <A href="http://en.wikipedia.org/wiki/MiB" target="_blank">MiB</A>