Package: idr2d Version: 1.20.0 Command: /Library/Frameworks/R.framework/Resources/bin/R CMD INSTALL idr2d StartedAt: 2025-02-03 15:32:27 -0500 (Mon, 03 Feb 2025) EndedAt: 2025-02-03 15:33:06 -0500 (Mon, 03 Feb 2025) EllapsedTime: 39.5 seconds RetCode: 0 Status: OK