Package: idr2d Version: 1.20.0 Command: /home/biocbuild/bbs-3.20-bioc/R/bin/R CMD build --keep-empty-dirs --no-resave-data --md5 idr2d StartedAt: 2025-02-17 17:38:01 -0500 (Mon, 17 Feb 2025) EndedAt: 2025-02-17 17:38:32 -0500 (Mon, 17 Feb 2025) EllapsedTime: 31.0 seconds RetCode: 0 Status: OK PackageFile: idr2d_1.20.0.tar.gz PackageFileSize: 1.506 <A href="http://en.wikipedia.org/wiki/MiB" target="_blank">MiB</A>