Package: idr2d Version: 1.20.0 Command: F:\biocbuild\bbs-3.20-bioc\R\bin\R.exe CMD INSTALL idr2d StartedAt: 2025-02-03 15:51:25 -0500 (Mon, 03 Feb 2025) EndedAt: 2025-02-03 15:52:01 -0500 (Mon, 03 Feb 2025) EllapsedTime: 36.1 seconds RetCode: 0 Status: OK