Package: igvR Version: 1.26.0 Command: /home/biocbuild/bbs-3.20-bioc/R/bin/R CMD build --keep-empty-dirs --no-resave-data --md5 igvR StartedAt: 2025-02-03 17:51:52 -0500 (Mon, 03 Feb 2025) EndedAt: 2025-02-03 17:52:40 -0500 (Mon, 03 Feb 2025) EllapsedTime: 48.1 seconds RetCode: 0 Status: OK PackageFile: igvR_1.26.0.tar.gz PackageFileSize: 8.594 MiB