Package: igvR Version: 1.26.0 Command: /home/biocbuild/bbs-3.20-bioc/R/bin/R CMD INSTALL igvR StartedAt: 2025-02-03 15:33:11 -0500 (Mon, 03 Feb 2025) EndedAt: 2025-02-03 15:33:52 -0500 (Mon, 03 Feb 2025) EllapsedTime: 41.2 seconds RetCode: 0 Status: OK