Package: igvR Version: 1.26.0 Command: /home/biocbuild/R/R/bin/R CMD build --keep-empty-dirs --no-resave-data igvR StartedAt: 2025-02-04 00:22:02 -0000 (Tue, 04 Feb 2025) EndedAt: 2025-02-04 00:23:05 -0000 (Tue, 04 Feb 2025) EllapsedTime: 62.0 seconds RetCode: 0 Status: OK PackageFile: igvR_1.26.0.tar.gz PackageFileSize: 8.78 MiB