Package: igvR Version: 1.26.0 Command: /home/biocbuild/R/R/bin/R CMD check --install=check:igvR.install-out.txt --library=/home/biocbuild/R/R/site-library --no-vignettes --timings igvR_1.26.0.tar.gz StartedAt: 2025-02-04 08:00:14 -0000 (Tue, 04 Feb 2025) EndedAt: 2025-02-04 08:05:27 -0000 (Tue, 04 Feb 2025) EllapsedTime: 313.3 seconds RetCode: 0 Status: OK CheckDir: igvR.Rcheck Warnings: 0