Package: igvR Version: 1.26.0 Command: /home/biocbuild/R/R/bin/R CMD INSTALL igvR StartedAt: 2025-02-03 20:43:01 -0000 (Mon, 03 Feb 2025) EndedAt: 2025-02-03 20:43:50 -0000 (Mon, 03 Feb 2025) EllapsedTime: 48.4 seconds RetCode: 0 Status: OK