Package: illuminaio Version: 0.48.0 Command: rm -rf illuminaio.buildbin-libdir && mkdir illuminaio.buildbin-libdir && /Users/biocbuild/BBS/utils/build-universal.sh illuminaio_0.48.0.tar.gz /Library/Frameworks/R.framework/Resources/bin/R illuminaio.buildbin-libdir StartedAt: 2024-11-09 16:54:21 -0500 (Sat, 09 Nov 2024) EndedAt: 2024-11-09 16:54:23 -0500 (Sat, 09 Nov 2024) EllapsedTime: 2.0 seconds RetCode: 0 Status: OK PackageFile: illuminaio_0.48.0.tgz PackageFileSize: 448.9 KiB