Package: illuminaio Version: 0.48.0 Command: /Library/Frameworks/R.framework/Resources/bin/R CMD build --keep-empty-dirs --no-resave-data illuminaio StartedAt: 2025-02-03 19:42:33 -0500 (Mon, 03 Feb 2025) EndedAt: 2025-02-03 19:43:20 -0500 (Mon, 03 Feb 2025) EllapsedTime: 47.6 seconds RetCode: 0 Status: OK PackageFile: illuminaio_0.48.0.tar.gz PackageFileSize: 429.7 KiB