Package: illuminaio Version: 0.48.0 Command: /Library/Frameworks/R.framework/Resources/bin/R CMD check --install=check:illuminaio.install-out.txt --library=/Library/Frameworks/R.framework/Resources/library --no-vignettes --timings illuminaio_0.48.0.tar.gz StartedAt: 2025-02-04 05:09:08 -0500 (Tue, 04 Feb 2025) EndedAt: 2025-02-04 05:10:04 -0500 (Tue, 04 Feb 2025) EllapsedTime: 55.8 seconds RetCode: 0 Status: OK CheckDir: illuminaio.Rcheck Warnings: 0