Package: illuminaio Version: 0.48.0 Command: /Library/Frameworks/R.framework/Resources/bin/R CMD INSTALL illuminaio StartedAt: 2025-02-03 15:19:16 -0500 (Mon, 03 Feb 2025) EndedAt: 2025-02-03 15:19:31 -0500 (Mon, 03 Feb 2025) EllapsedTime: 14.9 seconds RetCode: 0 Status: OK