Package: illuminaio Version: 0.48.0 Command: /home/biocbuild/bbs-3.20-bioc/R/bin/R CMD check --install=check:illuminaio.install-out.txt --library=/home/biocbuild/bbs-3.20-bioc/R/site-library --timings illuminaio_0.48.0.tar.gz StartedAt: 2025-02-03 23:19:52 -0500 (Mon, 03 Feb 2025) EndedAt: 2025-02-03 23:20:25 -0500 (Mon, 03 Feb 2025) EllapsedTime: 33.0 seconds RetCode: 0 Status: OK CheckDir: illuminaio.Rcheck Warnings: 0