Package: illuminaio Version: 0.48.0 Command: chmod a+r illuminaio -R && F:\biocbuild\bbs-3.20-bioc\R\bin\R.exe CMD build --keep-empty-dirs --no-resave-data illuminaio StartedAt: 2025-02-03 19:50:28 -0500 (Mon, 03 Feb 2025) EndedAt: 2025-02-03 19:51:40 -0500 (Mon, 03 Feb 2025) EllapsedTime: 71.7 seconds RetCode: 0 Status: OK PackageFile: illuminaio_0.48.0.tar.gz PackageFileSize: 301.6 KiB