Package: illuminaio Version: 0.48.0 Command: /home/biocbuild/R/R/bin/R CMD INSTALL illuminaio StartedAt: 2025-02-03 20:27:51 -0000 (Mon, 03 Feb 2025) EndedAt: 2025-02-03 20:28:08 -0000 (Mon, 03 Feb 2025) EllapsedTime: 16.1 seconds RetCode: 0 Status: OK