Package: imcRtools Version: 1.12.0 Command: rm -rf imcRtools.buildbin-libdir && mkdir imcRtools.buildbin-libdir && /Users/biocbuild/BBS/utils/build-universal.sh imcRtools_1.12.0.tar.gz /Library/Frameworks/R.framework/Resources/bin/R imcRtools.buildbin-libdir StartedAt: 2025-02-05 16:16:36 -0500 (Wed, 05 Feb 2025) EndedAt: 2025-02-05 16:17:46 -0500 (Wed, 05 Feb 2025) EllapsedTime: 69.7 seconds RetCode: 0 Status: OK PackageFile: imcRtools_1.12.0.tgz PackageFileSize: 6.588 MiB