Package: imcRtools Version: 1.12.0 Command: /Library/Frameworks/R.framework/Resources/bin/R CMD build --keep-empty-dirs --no-resave-data imcRtools StartedAt: 2025-02-04 01:46:20 -0500 (Tue, 04 Feb 2025) EndedAt: 2025-02-04 01:49:23 -0500 (Tue, 04 Feb 2025) EllapsedTime: 183.1 seconds RetCode: 0 Status: OK PackageFile: imcRtools_1.12.0.tar.gz PackageFileSize: 6.772 MiB