Package: imcRtools Version: 1.12.0 Command: /Library/Frameworks/R.framework/Resources/bin/R CMD check --install=check:imcRtools.install-out.txt --library=/Library/Frameworks/R.framework/Resources/library --no-vignettes --timings imcRtools_1.12.0.tar.gz StartedAt: 2025-02-04 22:58:09 -0500 (Tue, 04 Feb 2025) EndedAt: 2025-02-04 23:16:30 -0500 (Tue, 04 Feb 2025) EllapsedTime: 1101.4 seconds RetCode: 1 Status: ERROR CheckDir: imcRtools.Rcheck Warnings: NA