Package: imcRtools Version: 1.12.0 Command: /Library/Frameworks/R.framework/Resources/bin/R CMD check --install=check:imcRtools.install-out.txt --library=/Library/Frameworks/R.framework/Resources/library --no-vignettes --timings imcRtools_1.12.0.tar.gz StartedAt: 2024-11-09 04:57:57 -0500 (Sat, 09 Nov 2024) EndedAt: 2024-11-09 05:07:18 -0500 (Sat, 09 Nov 2024) EllapsedTime: 561.5 seconds RetCode: 1 Status: ERROR CheckDir: imcRtools.Rcheck Warnings: NA