Package: imcRtools Version: 1.12.0 Command: /Library/Frameworks/R.framework/Resources/bin/R CMD INSTALL imcRtools StartedAt: 2024-11-08 15:37:55 -0500 (Fri, 08 Nov 2024) EndedAt: 2024-11-08 15:38:15 -0500 (Fri, 08 Nov 2024) EllapsedTime: 20.5 seconds RetCode: 0 Status: OK