Package: imcRtools Version: 1.12.0 Command: rm -rf imcRtools.buildbin-libdir && mkdir imcRtools.buildbin-libdir && /Users/biocbuild/BBS/utils/build-universal.sh imcRtools_1.12.0.tar.gz /Library/Frameworks/R.framework/Resources/bin/R imcRtools.buildbin-libdir StartedAt: 2025-02-11 13:31:18 -0500 (Tue, 11 Feb 2025) EndedAt: 2025-02-11 13:34:50 -0500 (Tue, 11 Feb 2025) EllapsedTime: 212.1 seconds RetCode: 0 Status: OK PackageFile: imcRtools_1.12.0.tgz PackageFileSize: 6.588 MiB