Package: imcRtools Version: 1.12.0 Command: /Library/Frameworks/R.framework/Resources/bin/R CMD build --keep-empty-dirs --no-resave-data imcRtools StartedAt: 2025-02-03 19:43:15 -0500 (Mon, 03 Feb 2025) EndedAt: 2025-02-03 19:49:31 -0500 (Mon, 03 Feb 2025) EllapsedTime: 375.9 seconds RetCode: 0 Status: OK PackageFile: imcRtools_1.12.0.tar.gz PackageFileSize: 6.772 MiB