Package: imcRtools Version: 1.12.0 Command: /Library/Frameworks/R.framework/Resources/bin/R CMD check --install=check:imcRtools.install-out.txt --library=/Library/Frameworks/R.framework/Resources/library --no-vignettes --timings imcRtools_1.12.0.tar.gz StartedAt: 2025-02-04 05:09:28 -0500 (Tue, 04 Feb 2025) EndedAt: 2025-02-04 05:45:25 -0500 (Tue, 04 Feb 2025) EllapsedTime: 2156.7 seconds RetCode: 0 Status: OK CheckDir: imcRtools.Rcheck Warnings: 0