Package: imcRtools Version: 1.12.0 Command: /Library/Frameworks/R.framework/Resources/bin/R CMD INSTALL imcRtools StartedAt: 2025-02-03 16:17:22 -0500 (Mon, 03 Feb 2025) EndedAt: 2025-02-03 16:19:24 -0500 (Mon, 03 Feb 2025) EllapsedTime: 122.1 seconds RetCode: 0 Status: OK