Package: imcRtools Version: 1.12.0 Command: F:\biocbuild\bbs-3.20-bioc\R\bin\R.exe CMD check --no-multiarch --install=check:imcRtools.install-out.txt --library=F:\biocbuild\bbs-3.20-bioc\R\library --no-vignettes --timings imcRtools_1.12.0.tar.gz StartedAt: 2025-02-04 02:52:28 -0500 (Tue, 04 Feb 2025) EndedAt: 2025-02-04 03:18:44 -0500 (Tue, 04 Feb 2025) EllapsedTime: 1576.3 seconds RetCode: 0 Status: OK CheckDir: imcRtools.Rcheck Warnings: 0