Package: imcRtools Version: 1.12.0 Command: F:\biocbuild\bbs-3.20-bioc\R\bin\R.exe CMD INSTALL imcRtools StartedAt: 2025-02-03 16:45:28 -0500 (Mon, 03 Feb 2025) EndedAt: 2025-02-03 16:46:52 -0500 (Mon, 03 Feb 2025) EllapsedTime: 83.3 seconds RetCode: 0 Status: OK