Package: imcRtools Version: 1.12.0 Command: /home/biocbuild/R/R/bin/R CMD INSTALL imcRtools StartedAt: 2025-02-03 21:03:38 -0000 (Mon, 03 Feb 2025) EndedAt: 2025-02-03 21:03:38 -0000 (Mon, 03 Feb 2025) EllapsedTime: 0.4 seconds RetCode: 1 Status: ERROR