Package: imcRtools Version: 1.12.0 Command: /home/biocbuild/bbs-3.20-bioc/R/bin/R CMD check --install=check:imcRtools.install-out.txt --library=/home/biocbuild/bbs-3.20-bioc/R/site-library --timings imcRtools_1.12.0.tar.gz StartedAt: 2024-11-20 04:34:51 -0500 (Wed, 20 Nov 2024) EndedAt: 2024-11-20 04:49:04 -0500 (Wed, 20 Nov 2024) EllapsedTime: 853.2 seconds RetCode: 0 Status: OK CheckDir: imcRtools.Rcheck Warnings: 0