Package: immApex
Version: 1.0.4
Command: /Library/Frameworks/R.framework/Resources/bin/R CMD build --keep-empty-dirs --no-resave-data immApex
StartedAt: 2024-11-08 17:46:05 -0500 (Fri, 08 Nov 2024)
EndedAt: 2024-11-08 17:46:47 -0500 (Fri, 08 Nov 2024)
EllapsedTime: 42.4 seconds
RetCode: 0
Status: OK
PackageFile: immApex_1.0.4.tar.gz
PackageFileSize: 2.911 <A href="http://en.wikipedia.org/wiki/MiB" target="_blank">MiB</A>