Package: immunoClust Version: 1.38.0 Command: rm -rf immunoClust.buildbin-libdir && mkdir immunoClust.buildbin-libdir && /Users/biocbuild/BBS/utils/build-universal.sh immunoClust_1.38.0.tar.gz /Library/Frameworks/R.framework/Resources/bin/R immunoClust.buildbin-libdir StartedAt: 2025-02-19 15:34:34 -0500 (Wed, 19 Feb 2025) EndedAt: 2025-02-19 15:35:05 -0500 (Wed, 19 Feb 2025) EllapsedTime: 31.6 seconds RetCode: 0 Status: OK PackageFile: immunoClust_1.38.0.tgz PackageFileSize: 3.26 <A href="http://en.wikipedia.org/wiki/MiB" target="_blank">MiB</A>