Package: immunoClust Version: 1.38.0 Command: /Library/Frameworks/R.framework/Resources/bin/R CMD build --keep-empty-dirs --no-resave-data immunoClust StartedAt: 2025-02-04 01:48:00 -0500 (Tue, 04 Feb 2025) EndedAt: 2025-02-04 01:52:23 -0500 (Tue, 04 Feb 2025) EllapsedTime: 263.0 seconds RetCode: 0 Status: OK PackageFile: immunoClust_1.38.0.tar.gz PackageFileSize: 2.509 MiB