Package: immunoClust
Version: 1.38.0
Command: /home/biocbuild/bbs-3.20-bioc/R/bin/R CMD INSTALL immunoClust
StartedAt: 2025-02-17 15:20:37 -0500 (Mon, 17 Feb 2025)
EndedAt: 2025-02-17 15:21:01 -0500 (Mon, 17 Feb 2025)
EllapsedTime: 23.8 seconds
RetCode: 0
Status: OK