##############################################################################
##############################################################################
###
### Running command:
###
###   chmod a+r immunoClust -R && F:\biocbuild\bbs-3.20-bioc\R\bin\R.exe CMD build --keep-empty-dirs --no-resave-data immunoClust
###
##############################################################################
##############################################################################


* checking for file 'immunoClust/DESCRIPTION' ... OK
* preparing 'immunoClust':
* checking DESCRIPTION meta-information ... OK
* cleaning src
* installing the package to build vignettes
* creating vignettes ... OK
* cleaning src
* checking for LF line-endings in source and make files and shell scripts
* checking for empty or unneeded directories
* looking to see if a 'data/datalist' file should be added
* building 'immunoClust_1.38.0.tar.gz'
Warning: file 'immunoClust/cleanup' did not have execute permissions: corrected
Warning: file 'immunoClust/configure' did not have execute permissions: corrected