Package: immunogenViewer Version: 1.0.0 Command: rm -rf immunogenViewer.buildbin-libdir && mkdir immunogenViewer.buildbin-libdir && /Users/biocbuild/BBS/utils/build-universal.sh immunogenViewer_1.0.0.tar.gz /Library/Frameworks/R.framework/Resources/bin/R immunogenViewer.buildbin-libdir StartedAt: 2025-01-31 13:00:08 -0500 (Fri, 31 Jan 2025) EndedAt: 2025-01-31 13:00:44 -0500 (Fri, 31 Jan 2025) EllapsedTime: 35.9 seconds RetCode: 0 Status: OK PackageFile: immunogenViewer_1.0.0.tgz PackageFileSize: 668.9 KiB