Package: immunogenViewer Version: 1.0.0 Command: /home/biocbuild/bbs-3.20-bioc/R/bin/R CMD build --keep-empty-dirs --no-resave-data --md5 immunogenViewer StartedAt: 2025-02-03 17:52:30 -0500 (Mon, 03 Feb 2025) EndedAt: 2025-02-03 17:53:14 -0500 (Mon, 03 Feb 2025) EllapsedTime: 44.0 seconds RetCode: 0 Status: OK PackageFile: immunogenViewer_1.0.0.tar.gz PackageFileSize: 674.7 KiB