Package: immunogenViewer Version: 1.0.0 Command: /home/biocbuild/bbs-3.20-bioc/R/bin/R CMD INSTALL immunogenViewer StartedAt: 2025-02-03 15:29:54 -0500 (Mon, 03 Feb 2025) EndedAt: 2025-02-03 15:30:07 -0500 (Mon, 03 Feb 2025) EllapsedTime: 13.5 seconds RetCode: 0 Status: OK