Package: immunogenViewer Version: 1.0.0 Command: chmod a+r immunogenViewer -R && F:\biocbuild\bbs-3.20-bioc\R\bin\R.exe CMD build --keep-empty-dirs --no-resave-data immunogenViewer StartedAt: 2025-02-03 19:52:08 -0500 (Mon, 03 Feb 2025) EndedAt: 2025-02-03 19:53:12 -0500 (Mon, 03 Feb 2025) EllapsedTime: 64.1 seconds RetCode: 0 Status: OK PackageFile: immunogenViewer_1.0.0.tar.gz PackageFileSize: 494.1 KiB