Package: immunogenViewer Version: 1.0.0 Command: /home/biocbuild/R/R/bin/R CMD build --keep-empty-dirs --no-resave-data immunogenViewer StartedAt: 2025-02-04 00:23:05 -0000 (Tue, 04 Feb 2025) EndedAt: 2025-02-04 00:24:01 -0000 (Tue, 04 Feb 2025) EllapsedTime: 56.0 seconds RetCode: 0 Status: OK PackageFile: immunogenViewer_1.0.0.tar.gz PackageFileSize: 619.3 KiB