Package: immunogenViewer Version: 1.0.0 Command: /home/biocbuild/R/R/bin/R CMD INSTALL immunogenViewer StartedAt: 2025-02-03 20:48:52 -0000 (Mon, 03 Feb 2025) EndedAt: 2025-02-03 20:49:11 -0000 (Mon, 03 Feb 2025) EllapsedTime: 18.8 seconds RetCode: 0 Status: OK