Package: immunotation Version: 1.14.0 Command: /Library/Frameworks/R.framework/Resources/bin/R CMD check --install=check:immunotation.install-out.txt --library=/Library/Frameworks/R.framework/Resources/library --no-vignettes --timings immunotation_1.14.0.tar.gz StartedAt: 2025-02-04 05:10:23 -0500 (Tue, 04 Feb 2025) EndedAt: 2025-02-04 05:16:18 -0500 (Tue, 04 Feb 2025) EllapsedTime: 354.8 seconds RetCode: 0 Status: OK CheckDir: immunotation.Rcheck Warnings: 0