Package: immunotation Version: 1.14.0 Command: /home/biocbuild/bbs-3.20-bioc/R/bin/R CMD INSTALL immunotation StartedAt: 2025-02-03 15:18:45 -0500 (Mon, 03 Feb 2025) EndedAt: 2025-02-03 15:19:54 -0500 (Mon, 03 Feb 2025) EllapsedTime: 69.4 seconds RetCode: 0 Status: OK