Package: infercnv Version: 1.22.0 Command: chmod a+r infercnv -R && F:\biocbuild\bbs-3.20-bioc\R\bin\R.exe CMD build --keep-empty-dirs --no-resave-data infercnv StartedAt: 2025-02-03 19:53:09 -0500 (Mon, 03 Feb 2025) EndedAt: 2025-02-03 19:55:45 -0500 (Mon, 03 Feb 2025) EllapsedTime: 156.2 seconds RetCode: 0 Status: OK PackageFile: infercnv_1.22.0.tar.gz PackageFileSize: 3.89 MiB