Package: infercnv Version: 1.22.0 Command: F:\biocbuild\bbs-3.20-bioc\R\bin\R.exe CMD INSTALL infercnv StartedAt: 2025-02-03 16:34:45 -0500 (Mon, 03 Feb 2025) EndedAt: 2025-02-03 16:36:16 -0500 (Mon, 03 Feb 2025) EllapsedTime: 91.3 seconds RetCode: 0 Status: OK