Package: infinityFlow Version: 1.16.0 Command: rm -rf infinityFlow.buildbin-libdir && mkdir infinityFlow.buildbin-libdir && /Users/biocbuild/BBS/utils/build-universal.sh infinityFlow_1.16.0.tar.gz /Library/Frameworks/R.framework/Resources/bin/R infinityFlow.buildbin-libdir StartedAt: 2025-02-05 16:17:40 -0500 (Wed, 05 Feb 2025) EndedAt: 2025-02-05 16:18:08 -0500 (Wed, 05 Feb 2025) EllapsedTime: 28.2 seconds RetCode: 0 Status: OK PackageFile: infinityFlow_1.16.0.tgz PackageFileSize: 1.774 MiB