Package: infinityFlow Version: 1.16.0 Command: /Library/Frameworks/R.framework/Resources/bin/R CMD build --keep-empty-dirs --no-resave-data infinityFlow StartedAt: 2025-02-10 19:44:18 -0500 (Mon, 10 Feb 2025) EndedAt: 2025-02-10 19:51:24 -0500 (Mon, 10 Feb 2025) EllapsedTime: 425.8 seconds RetCode: 0 Status: OK PackageFile: infinityFlow_1.16.0.tar.gz PackageFileSize: 1.709 MiB